BEGIN:VCALENDAR
VERSION:2.0
PRODID:-//ChamberMaster//Event Calendar 2.0//EN
METHOD:PUBLISH
X-PUBLISHED-TTL:P3D
REFRESH-INTERVAL:P3D
CALSCALE:GREGORIAN
BEGIN:VEVENT
DTSTART:20260416T150000Z
DTEND:20260416T161500Z
X-MICROSOFT-CDO-ALLDAYEVENT:FALSE
SUMMARY:Principles for How We Treat Each Other Community Workshop
DESCRIPTION:Join PJI for a virtual community workshop. About the Workshop: Skilled communication and inter-cultural competence are vital to our workplace\, interpersonal relations and national discourse. The Principles For How We Treat Each Other provides people with effective tools for engaging in difficult conversations\, empathetic listening\, perspective taking and relationship building. This workshop invites participants to place storytelling at the center of their work in order to develop authentic and meaningful relationships.
X-ALT-DESC;FMTTYPE=text/html:Join PJI for a virtual community workshop. About the Workshop: Skilled communication and inter-cultural competence are vital to our workplace\, interpersonal relations and national discourse. The Principles For How We Treat Each Other provides people with effective tools for engaging in difficult conversations\, empathetic listening\, perspective taking and relationship building. This workshop invites participants to place storytelling at the center of their work in order to develop authentic and meaningful relationships.
LOCATION:Online Event
UID:e.1204.46063
SEQUENCE:3
DTSTAMP:20260422T140803Z
URL:http://business.owsrcc.org/events/details/principles-for-how-we-treat-each-other-community-workshop-46063
END:VEVENT

END:VCALENDAR
