BEGIN:VCALENDAR
VERSION:2.0
PRODID:-//ChamberMaster//Event Calendar 2.0//EN
METHOD:PUBLISH
X-PUBLISHED-TTL:P3D
REFRESH-INTERVAL:P3D
CALSCALE:GREGORIAN
BEGIN:VEVENT
DTSTART:20260919T130000Z
DTEND:20260919T163000Z
X-MICROSOFT-CDO-ALLDAYEVENT:FALSE
SUMMARY:Peace Day in the Park
DESCRIPTION:Join the Peace and Justice Institute for a celebration of the International Day of Peace! About Peace Day in the Park Celebrate the International Day of Peace with a day of free activities for all ages including live musical performances\, yoga\, children's storytelling\, a public art project\, and of course\, our annual Human Peace Sign photograph.
X-ALT-DESC;FMTTYPE=text/html:Join the Peace and Justice Institute for a celebration of the International Day of Peace! About Peace Day in the Park Celebrate the International Day of Peace with a day of free activities for all ages including live musical performances\, yoga\, children&rsquo\;s storytelling\, a public art project\, and of course\, our annual Human Peace Sign photograph.
LOCATION:Central Park Main Stage 251 South Park Avenue Winter Park\, FL 32789
UID:e.1204.46067
SEQUENCE:3
DTSTAMP:20260421T073741Z
URL:http://business.owsrcc.org/events/details/peace-day-in-the-park-09-19-2026-46067
END:VEVENT

END:VCALENDAR
