BEGIN:VCALENDAR
VERSION:2.0
PRODID:-//ChamberMaster//Event Calendar 2.0//EN
METHOD:PUBLISH
X-PUBLISHED-TTL:P3D
REFRESH-INTERVAL:P3D
CALSCALE:GREGORIAN
BEGIN:VEVENT
DTSTART;VALUE=DATE:20260510
DTEND;VALUE=DATE:20260511
TRANSP:TRANSPARENT
X-MICROSOFT-CDO-ALLDAYEVENT:TRUE
SUMMARY:Mothers Day Brunch
DESCRIPTION:Join us for a delicious Mother's Day\n\nCelebration with elevated flavors\n\nand stunning displays! Our culinary\n\nteam has been curating an\n\nexperience packed with\n\nchef-attended stations\, brunch\n\nfavorites\, holiday classics\,\n\nextravagant desserts\, bottomless\n\nmimosas\, and much more!
X-ALT-DESC;FMTTYPE=text/html:Join us for a delicious Mother&#39\;s Day<br />\nCelebration with elevated flavors<br />\nand stunning displays! Our culinary<br />\nteam has been curating an<br />\nexperience packed with<br />\nchef-attended stations\, brunch<br />\nfavorites\, holiday classics\,<br />\nextravagant desserts\, bottomless<br />\nmimosas\, and much more!
LOCATION:Aurora Restaurant at the Celeste Hotel 4105 North Alafaya Trail Orlando\, FL 32826
UID:e.1204.46112
SEQUENCE:3
DTSTAMP:20260421T163403Z
URL:http://business.owsrcc.org/events/details/monther-day-brunch-46112
END:VEVENT

END:VCALENDAR
